BEGIN:VCALENDAR
VERSION:2.0
PRODID:-//wp-events-plugin.com//7.2.3.1//EN
TZID:America/New_York
X-WR-TIMEZONE:America/New_York
BEGIN:VEVENT
UID:1140@paramuschamber.org
DTSTART;TZID=America/New_York:20240630T140000
DTEND;TZID=America/New_York:20240630T220000
DTSTAMP:20240429T172642Z
URL:https://paramuschamber.org/events/fireworks_show/
SUMMARY:Paramus 4th of July Fireworks Show
DESCRIPTION:Free event offering live music\, delicious food vendors\, and a
  breathtaking fireworks show. For more details on parking and safety guide
 lines\, please visit Paramus 4th of July Committee's Fireworks Page.\n\nHo
 sted by the Paramus 4th of July Committee
CATEGORIES:Chamber,Community Event
LOCATION:Cliff Gennarelli Sports Plex\, Garden State Plaza Parkway\, Paramu
 s\, NJ\, 07652\, United States
X-APPLE-STRUCTURED-LOCATION;VALUE=URI;X-ADDRESS=Garden State Plaza Parkway\
 , Paramus\, NJ\, 07652\, United States;X-APPLE-RADIUS=100;X-TITLE=Cliff Ge
 nnarelli Sports Plex:geo:0,0
END:VEVENT
BEGIN:VTIMEZONE
TZID:America/New_York
X-LIC-LOCATION:America/New_York
BEGIN:DAYLIGHT
DTSTART:20240310T030000
TZOFFSETFROM:-0500
TZOFFSETTO:-0400
TZNAME:EDT
END:DAYLIGHT
END:VTIMEZONE
END:VCALENDAR